BEGIN:VCALENDAR
VERSION:2.0
PRODID:-//Sabre//Sabre VObject 4.5.8//EN
CALSCALE:GREGORIAN
BEGIN:VEVENT
UID:sabre-vobject-5e12fc89-aa59-46d8-ad4b-a3f1b64406b6
DTSTAMP:20260422T224912Z
SUMMARY:Karfreitagsliturgie
DESCRIPTION:https://aletshausen.bistum-augsburg-portal.de/karfreitagsliturg
 ie_id1695148
DTSTART;TZID=Europe/Berlin:20260403T150000
DURATION:PT30M
LOCATION:Heilig Kreuz\, Haupeltshofer Straße 2\, 86480 Aletshausen
END:VEVENT
END:VCALENDAR
