BEGIN:VCALENDAR
VERSION:2.0
PRODID:-//Sabre//Sabre VObject 4.5.8//EN
CALSCALE:GREGORIAN
BEGIN:VEVENT
UID:sabre-vobject-6e56bf15-96a1-4e8c-9a10-8cfaf9299580
DTSTAMP:20260423T022702Z
SUMMARY:Kreuzweg in der Grotte
DESCRIPTION:https://aletshausen.bistum-augsburg-portal.de/kreuzweg-in-der-g
 rotte_id1695147
DTSTART;TZID=Europe/Berlin:20260403T090000
DURATION:PT30M
LOCATION:Heilig Kreuz\, Haupeltshofer Straße 2\, 86480 Aletshausen
END:VEVENT
END:VCALENDAR
