BEGIN:VCALENDAR
VERSION:2.0
PRODID:-//Sabre//Sabre VObject 4.5.8//EN
CALSCALE:GREGORIAN
BEGIN:VEVENT
UID:sabre-vobject-19153e88-39d3-4acb-9775-6cf890e895bb
DTSTAMP:20260423T040645Z
SUMMARY:Abendmahlsgottesdienst für Aletshausen\, Waltenhausen und Winzer
DESCRIPTION:https://aletshausen.bistum-augsburg-portal.de/abendmahlsgottesd
 ienst-fuer-aletshausen-waltenhausen-und-winzer_id1695146
DTSTART;TZID=Europe/Berlin:20260402T190000
DURATION:PT30M
LOCATION:Heilig Kreuz\, Haupeltshofer Straße 2\, 86480 Aletshausen
END:VEVENT
END:VCALENDAR
