BEGIN:VCALENDAR
VERSION:2.0
PRODID:-//Sabre//Sabre VObject 4.5.8//EN
CALSCALE:GREGORIAN
BEGIN:VEVENT
UID:sabre-vobject-67025ab9-aabd-46df-93c1-56837db6cd95
DTSTAMP:20260423T072117Z
SUMMARY:Beichtgelegenheit (bis 17:30 Uhr)
DESCRIPTION:https://aletshausen.bistum-augsburg-portal.de/beichtgelegenheit
 -bis-17-30-uhr_id1695145
DTSTART;TZID=Europe/Berlin:20260402T163000
DURATION:PT30M
LOCATION:Heilig Kreuz\, Haupeltshofer Straße 2\, 86480 Aletshausen
END:VEVENT
END:VCALENDAR
