BEGIN:VCALENDAR
VERSION:2.0
PRODID:-//Sabre//Sabre VObject 4.5.8//EN
CALSCALE:GREGORIAN
BEGIN:VEVENT
UID:sabre-vobject-801893c0-db6e-48ee-a4a8-25b23a8458c7
DTSTAMP:20260423T084330Z
SUMMARY:Fastenandacht
DESCRIPTION:https://aletshausen.bistum-augsburg-portal.de/fastenandacht_id1
 695144
DTSTART;TZID=Europe/Berlin:20260331T170000
DURATION:PT30M
LOCATION:Heilig Kreuz\, Haupeltshofer Straße 2\, 86480 Aletshausen
END:VEVENT
END:VCALENDAR
