BEGIN:VCALENDAR
VERSION:2.0
PRODID:-//Sabre//Sabre VObject 4.5.8//EN
CALSCALE:GREGORIAN
BEGIN:VEVENT
UID:sabre-vobject-c9a39bfd-f61a-4dcd-a444-f276dab3608a
DTSTAMP:20260423T122627Z
SUMMARY:Segnung der Palmzweige (am Kindergarten)\, anschl. Prozession zur P
 farrkirche
DESCRIPTION:https://aletshausen.bistum-augsburg-portal.de/segnung-der-palmz
 weige-am-kindergarten-anschl-prozession-zur-pfarrkirche_id1695128
DTSTART;TZID=Europe/Berlin:20260329T100000
DURATION:PT30M
LOCATION:Heilig Kreuz\, Haupeltshofer Straße 2\, 86480 Aletshausen
END:VEVENT
END:VCALENDAR
