BEGIN:VCALENDAR
VERSION:2.0
PRODID:-//Sabre//Sabre VObject 4.5.8//EN
CALSCALE:GREGORIAN
BEGIN:VEVENT
UID:sabre-vobject-01faff89-796d-4923-bcae-f645f87d6619
DTSTAMP:20260423T133932Z
SUMMARY:Heilige Messe
DESCRIPTION:https://aletshausen.bistum-augsburg-portal.de/heilige-messe_id1
 693265
DTSTART;TZID=Europe/Berlin:20260327T190000
DURATION:PT30M
LOCATION:Heilig Kreuz\, Haupeltshofer Straße 2\, 86480 Aletshausen
END:VEVENT
END:VCALENDAR
