BEGIN:VCALENDAR
VERSION:2.0
PRODID:-//Sabre//Sabre VObject 4.5.8//EN
CALSCALE:GREGORIAN
BEGIN:VEVENT
UID:sabre-vobject-63c35775-4443-4cdb-89a3-d6e06bbcb369
DTSTAMP:20260423T175939Z
SUMMARY:Heilige Messe
DESCRIPTION:https://aletshausen.bistum-augsburg-portal.de/heilige-messe_id1
 693263
DTSTART;TZID=Europe/Berlin:20260322T180000
DURATION:PT30M
LOCATION:Heilig Kreuz\, Haupeltshofer Straße 2\, 86480 Aletshausen
END:VEVENT
END:VCALENDAR
