BEGIN:VCALENDAR
VERSION:2.0
PRODID:-//Sabre//Sabre VObject 4.5.8//EN
CALSCALE:GREGORIAN
BEGIN:VEVENT
UID:sabre-vobject-8b76f2ce-c2d3-4613-a475-e06ad339e3cd
DTSTAMP:20260423T151614Z
SUMMARY:Fastenrosenkranz
DESCRIPTION:https://aletshausen.bistum-augsburg-portal.de/fastenrosenkranz_
 id1693261
DTSTART;TZID=Europe/Berlin:20260326T190000
DURATION:PT30M
LOCATION:Heilig Kreuz\, Haupeltshofer Straße 2\, 86480 Aletshausen
END:VEVENT
END:VCALENDAR
