BEGIN:VCALENDAR
VERSION:2.0
PRODID:-//Sabre//Sabre VObject 4.5.8//EN
CALSCALE:GREGORIAN
BEGIN:VEVENT
UID:sabre-vobject-1508e8ca-5f7a-4b8f-b386-369f85d5e4d5
DTSTAMP:20260423T193105Z
SUMMARY:Bußgottesdienst für Aletshausen\, Waltenhausen und Winzer
DESCRIPTION:https://aletshausen.bistum-augsburg-portal.de/bussgottesdienst-
 fuer-aletshausen-waltenhausen-und-winzer_id1677467
DTSTART;TZID=Europe/Berlin:20260320T190000
DURATION:PT30M
LOCATION:Heilig Kreuz\, Haupeltshofer Straße 2\, 86480 Aletshausen
END:VEVENT
END:VCALENDAR
