BEGIN:VCALENDAR
VERSION:2.0
PRODID:-//Sabre//Sabre VObject 4.5.8//EN
CALSCALE:GREGORIAN
BEGIN:VEVENT
UID:sabre-vobject-43bb2745-e299-45e1-8243-3ea1d29433ee
DTSTAMP:20260424T024623Z
SUMMARY:Fastenrosenkranz
DESCRIPTION:https://aletshausen.bistum-augsburg-portal.de/fastenrosenkranz_
 id1677466
DTSTART;TZID=Europe/Berlin:20260319T190000
DURATION:PT30M
LOCATION:Heilig Kreuz\, Haupeltshofer Straße 2\, 86480 Aletshausen
END:VEVENT
END:VCALENDAR
